BEGIN:VCALENDAR
VERSION:2.0
PRODID:-//Impro Riviera Events - ECPv6.15.20//NONSGML v1.0//EN
CALSCALE:GREGORIAN
METHOD:PUBLISH
X-ORIGINAL-URL:https://improriviera.ch
X-WR-CALDESC:Évènements pour Impro Riviera Events
REFRESH-INTERVAL;VALUE=DURATION:PT1H
X-Robots-Tag:noindex
X-PUBLISHED-TTL:PT1H
BEGIN:VTIMEZONE
TZID:Europe/Zurich
BEGIN:DAYLIGHT
TZOFFSETFROM:+0100
TZOFFSETTO:+0200
TZNAME:CEST
DTSTART:20220327T010000
END:DAYLIGHT
BEGIN:STANDARD
TZOFFSETFROM:+0200
TZOFFSETTO:+0100
TZNAME:CET
DTSTART:20221030T010000
END:STANDARD
BEGIN:DAYLIGHT
TZOFFSETFROM:+0100
TZOFFSETTO:+0200
TZNAME:CEST
DTSTART:20230326T010000
END:DAYLIGHT
BEGIN:STANDARD
TZOFFSETFROM:+0200
TZOFFSETTO:+0100
TZNAME:CET
DTSTART:20231029T010000
END:STANDARD
BEGIN:DAYLIGHT
TZOFFSETFROM:+0100
TZOFFSETTO:+0200
TZNAME:CEST
DTSTART:20240331T010000
END:DAYLIGHT
BEGIN:STANDARD
TZOFFSETFROM:+0200
TZOFFSETTO:+0100
TZNAME:CET
DTSTART:20241027T010000
END:STANDARD
END:VTIMEZONE
BEGIN:VEVENT
DTSTART;TZID=Europe/Zurich:20230324T193000
DTEND;TZID=Europe/Zurich:20230326T210000
DTSTAMP:20260423T131448
CREATED:20221218T212755Z
LAST-MODIFIED:20230226T192258Z
UID:217-1679686200-1679864400@improriviera.ch
SUMMARY:Festival Impro Riviera Events
DESCRIPTION:Toutes les informations sur les spectacles proposés durant le week-end sont sur la page du festival. \nTarifs :\nCHF 12.- plein tarif\nCHF 6.- réduit\nLe deuxième spectacle du jour est à moitié prix. \nUne petite restauration et un bar seront tenus par les bénévoles de l’association pour votre plus grand plaisir !\nLes spectacles sont adaptés pour les enfants.
URL:https://improriviera.ch/agenda/fire/
LOCATION:Rocking Chair\, Gilamont 60\, Vevey\, Vaud\, 1800
CATEGORIES:Festival
END:VEVENT
END:VCALENDAR