BEGIN:VCALENDAR
VERSION:2.0
PRODID:-//Impro Riviera Events - ECPv6.15.20//NONSGML v1.0//EN
CALSCALE:GREGORIAN
METHOD:PUBLISH
X-ORIGINAL-URL:https://improriviera.ch
X-WR-CALDESC:Évènements pour Impro Riviera Events
REFRESH-INTERVAL;VALUE=DURATION:PT1H
X-Robots-Tag:noindex
X-PUBLISHED-TTL:PT1H
BEGIN:VTIMEZONE
TZID:Europe/Zurich
BEGIN:DAYLIGHT
TZOFFSETFROM:+0100
TZOFFSETTO:+0200
TZNAME:CEST
DTSTART:20230326T010000
END:DAYLIGHT
BEGIN:STANDARD
TZOFFSETFROM:+0200
TZOFFSETTO:+0100
TZNAME:CET
DTSTART:20231029T010000
END:STANDARD
BEGIN:DAYLIGHT
TZOFFSETFROM:+0100
TZOFFSETTO:+0200
TZNAME:CEST
DTSTART:20240331T010000
END:DAYLIGHT
BEGIN:STANDARD
TZOFFSETFROM:+0200
TZOFFSETTO:+0100
TZNAME:CET
DTSTART:20241027T010000
END:STANDARD
BEGIN:DAYLIGHT
TZOFFSETFROM:+0100
TZOFFSETTO:+0200
TZNAME:CEST
DTSTART:20250330T010000
END:DAYLIGHT
BEGIN:STANDARD
TZOFFSETFROM:+0200
TZOFFSETTO:+0100
TZNAME:CET
DTSTART:20251026T010000
END:STANDARD
END:VTIMEZONE
BEGIN:VEVENT
DTSTART;TZID=Europe/Zurich:20240503T200000
DTEND;TZID=Europe/Zurich:20240503T220000
DTSTAMP:20260422T040545
CREATED:20231031T181220Z
LAST-MODIFIED:20231031T181220Z
UID:490-1714766400-1714773600@improriviera.ch
SUMMARY:Match UNyon - Captain Neo
DESCRIPTION:Match dans le cadre de l’AVLI.
URL:https://improriviera.ch/agenda/match-unyon-captain-neo/
LOCATION:Le Cazard\, Pré du Marché 15\, Lausanne\, Vaud\, 1004\, Suisse
CATEGORIES:Match
END:VEVENT
BEGIN:VEVENT
DTSTART;TZID=Europe/Zurich:20240504T200000
DTEND;TZID=Europe/Zurich:20240504T220000
DTSTAMP:20260422T040545
CREATED:20231106T161136Z
LAST-MODIFIED:20231106T161136Z
UID:506-1714852800-1714860000@improriviera.ch
SUMMARY:Match  Brunch à la ferme - GIN
DESCRIPTION:Match dans le cadre de l’AVLI.
URL:https://improriviera.ch/agenda/match-brunch-a-la-ferme-gin/
LOCATION:Le Cazard\, Pré du Marché 15\, Lausanne\, Vaud\, 1004\, Suisse
CATEGORIES:Match
END:VEVENT
END:VCALENDAR