BEGIN:VCALENDAR
VERSION:2.0
PRODID:-//Impro Riviera Events - ECPv6.15.20//NONSGML v1.0//EN
CALSCALE:GREGORIAN
METHOD:PUBLISH
X-ORIGINAL-URL:https://improriviera.ch
X-WR-CALDESC:Évènements pour Impro Riviera Events
REFRESH-INTERVAL;VALUE=DURATION:PT1H
X-Robots-Tag:noindex
X-PUBLISHED-TTL:PT1H
BEGIN:VTIMEZONE
TZID:Europe/Zurich
BEGIN:DAYLIGHT
TZOFFSETFROM:+0100
TZOFFSETTO:+0200
TZNAME:CEST
DTSTART:20220327T010000
END:DAYLIGHT
BEGIN:STANDARD
TZOFFSETFROM:+0200
TZOFFSETTO:+0100
TZNAME:CET
DTSTART:20221030T010000
END:STANDARD
BEGIN:DAYLIGHT
TZOFFSETFROM:+0100
TZOFFSETTO:+0200
TZNAME:CEST
DTSTART:20230326T010000
END:DAYLIGHT
BEGIN:STANDARD
TZOFFSETFROM:+0200
TZOFFSETTO:+0100
TZNAME:CET
DTSTART:20231029T010000
END:STANDARD
BEGIN:DAYLIGHT
TZOFFSETFROM:+0100
TZOFFSETTO:+0200
TZNAME:CEST
DTSTART:20240331T010000
END:DAYLIGHT
BEGIN:STANDARD
TZOFFSETFROM:+0200
TZOFFSETTO:+0100
TZNAME:CET
DTSTART:20241027T010000
END:STANDARD
END:VTIMEZONE
BEGIN:VEVENT
DTSTART;TZID=Europe/Zurich:20230302T203000
DTEND;TZID=Europe/Zurich:20230302T213000
DTSTAMP:20260423T184240
CREATED:20221218T212100Z
LAST-MODIFIED:20230226T192757Z
UID:209-1677789000-1677792600@improriviera.ch
SUMMARY:Carte Blanche "Le facteur chance"
DESCRIPTION:Impro Riviera Events et Le Bout du Monde présentent une carte blanche à Benoît Essinger :\n« Ces personnes ne se connaissaient pas\, n’avaient rien en commun. Tout du moins\, c’était le cas jusqu’à ce qu’elles reçoivent toutes la même lettre\, le même jour. Un événement qui fera basculer leur vie. »\n\nAvec: Joaquin Mariné\, Tania Rochat\, Shanti Babajee et Benoît Essinger.
URL:https://improriviera.ch/agenda/carte-blanche-mars-2023/
LOCATION:Le Bout du Monde\, Rue d'Italie 24\, Vevey\, Vaud\, 1800\, Suisse
CATEGORIES:Spectacle
END:VEVENT
BEGIN:VEVENT
DTSTART;TZID=Europe/Zurich:20230309T200000
DTEND;TZID=Europe/Zurich:20230312T170000
DTSTAMP:20260423T184240
CREATED:20230204T131309Z
LAST-MODIFIED:20230204T132027Z
UID:281-1678392000-1678640400@improriviera.ch
SUMMARY:La mécanique du pétrin - Feydeau improvisé
DESCRIPTION:Maison de Quartier de Chailly\nAvenue de la Vallonnette 12\n1012 Lausanne \n\nJeudi 9 mars 2023 à 20h00\nVendredi 10 mars 2023 à 20h00\nSamedi 11 mars 2023 à 19h00\nDimanche 12 mars 2023 à 17h00\n\nPlein tarif : CHF 25.-\nTarif réduit : CHF 15.- \n \nUne aire de jeu délimitée\, une porte\, une sonnette.\n5 comédien·ne·s en bord de scène.\nUne foule de costumes\, d’accessoires\, de mobilier\, disponibles\, à vue du public.\nLes personnages sont pris en flagrant délit. Puis les comédien·ne·s aussi. Flagrant délit d’improvisation. Trop d’excuses abracadabrantes. Trop de personnages pour le nombre d’acteur·trice·s. Trop de lieux pour la scénographie.\nÇa tombe bien\, les improvisateur·trice·s adorent se frotter aux idées qui les dépassent. Voilà une bonne excuse pour se plonger dans la mécanique de Georges Feydeau\, pour construire des histoires dont on ne sait plus se sortir. Ressentir dans l’instant le danger et la joie des quiproquos.\nBref\, être dans le pétrin.
URL:https://improriviera.ch/agenda/la-mecanique-du-petrin-feydaux-improvise-2/
LOCATION:Maison de quartier Chailly\, Avenue de la Vallonnette 12\, Lausanne\, Vaud\, 1012\, Suisse
CATEGORIES:Spectacle
END:VEVENT
BEGIN:VEVENT
DTSTART;TZID=Europe/Zurich:20230316T200000
DTEND;TZID=Europe/Zurich:20230318T213000
DTSTAMP:20260423T184240
CREATED:20230204T131948Z
LAST-MODIFIED:20230204T161058Z
UID:286-1678996800-1679175000@improriviera.ch
SUMMARY:La mécanique du pétrin - Feydeau improvisé
DESCRIPTION:Théâtre le douze dix-huit\nChemin du Pommier 9\n1218 Le Grand-Saconnex \n\nJeudi 16 mars – 20h\nVendredi 17 mars – 20h\nSamedi 18 mars – 20h\n\nPlein tarif: CHF 25.-\nTarif réduit: CHF 20.- \n \nUne aire de jeu délimitée\, une porte\, une sonnette.\n5 comédien·ne·s en bord de scène.\nUne foule de costumes\, d’accessoires\, de mobilier\, disponibles\, à vue du public.\nLes personnages sont pris en flagrant délit. Puis les comédien·ne·s aussi. Flagrant délit d’improvisation. Trop d’excuses abracadabrantes. Trop de personnages pour le nombre d’acteur·trice·s. Trop de lieux pour la scénographie.\nÇa tombe bien\, les improvisateur·trice·s adorent se frotter aux idées qui les dépassent. Voilà une bonne excuse pour se plonger dans la mécanique de Georges Feydeau\, pour construire des histoires dont on ne sait plus se sortir. Ressentir dans l’instant le danger et la joie des quiproquos.\nBref\, être dans le pétrin.
URL:https://improriviera.ch/agenda/la-mecanique-du-petrin-feydeau-improvise-2/
LOCATION:Théatre le douze dix-huit\, Chemin du Pommier 9\, Le Grand-Saconnex\, Genève\, 1218\, Suisse
CATEGORIES:Spectacle
END:VEVENT
BEGIN:VEVENT
DTSTART;TZID=Europe/Zurich:20230323T200000
DTEND;TZID=Europe/Zurich:20230323T213000
DTSTAMP:20260423T184240
CREATED:20230204T163322Z
LAST-MODIFIED:20230204T163322Z
UID:310-1679601600-1679607000@improriviera.ch
SUMMARY:Saga saison 9 épisodes 11 et 12
DESCRIPTION:Vous êtes nostalgiques des soaps opera\, des aventures de Jenny et Brian? La compagnie Georges Poutre s’attaque cette année à cet univers. \nLien vers l’évènement Facebook suivra.
URL:https://improriviera.ch/agenda/saga-saison-9-episodes-11-et-12/
LOCATION:Théatre Montreux Riviera\, Rue du Pont 32\, Montreux\, Vaud\, 1820\, Suisse
CATEGORIES:Spectacle
END:VEVENT
END:VCALENDAR