BEGIN:VCALENDAR
VERSION:2.0
PRODID:-//Impro Riviera Events - ECPv6.15.20//NONSGML v1.0//EN
CALSCALE:GREGORIAN
METHOD:PUBLISH
X-WR-CALNAME:Impro Riviera Events
X-ORIGINAL-URL:https://improriviera.ch
X-WR-CALDESC:Évènements pour Impro Riviera Events
REFRESH-INTERVAL;VALUE=DURATION:PT1H
X-Robots-Tag:noindex
X-PUBLISHED-TTL:PT1H
BEGIN:VTIMEZONE
TZID:Europe/Zurich
BEGIN:DAYLIGHT
TZOFFSETFROM:+0100
TZOFFSETTO:+0200
TZNAME:CEST
DTSTART:20220327T010000
END:DAYLIGHT
BEGIN:STANDARD
TZOFFSETFROM:+0200
TZOFFSETTO:+0100
TZNAME:CET
DTSTART:20221030T010000
END:STANDARD
BEGIN:DAYLIGHT
TZOFFSETFROM:+0100
TZOFFSETTO:+0200
TZNAME:CEST
DTSTART:20230326T010000
END:DAYLIGHT
BEGIN:STANDARD
TZOFFSETFROM:+0200
TZOFFSETTO:+0100
TZNAME:CET
DTSTART:20231029T010000
END:STANDARD
BEGIN:DAYLIGHT
TZOFFSETFROM:+0100
TZOFFSETTO:+0200
TZNAME:CEST
DTSTART:20240331T010000
END:DAYLIGHT
BEGIN:STANDARD
TZOFFSETFROM:+0200
TZOFFSETTO:+0100
TZNAME:CET
DTSTART:20241027T010000
END:STANDARD
END:VTIMEZONE
BEGIN:VEVENT
DTSTART;TZID=Europe/Zurich:20231207T200000
DTEND;TZID=Europe/Zurich:20231207T213000
DTSTAMP:20260423T025702
CREATED:20230919T101848Z
LAST-MODIFIED:20230919T104916Z
UID:422-1701979200-1701984600@improriviera.ch
SUMMARY:Saga saison 10 épisode 4
DESCRIPTION:Pour ce quatrième spectacle\, la Compagnie Georges Poutre vous propose de redécouvrir le monde magique de l’Heroic Fantasy. \nLien vers l’événement Facebook.
URL:https://improriviera.ch/agenda/saga-saison-10-episode-4/
LOCATION:Théatre Montreux Riviera\, Rue du Pont 32\, Montreux\, Vaud\, 1820\, Suisse
CATEGORIES:Spectacle
END:VEVENT
BEGIN:VEVENT
DTSTART;TZID=Europe/Zurich:20231214T200000
DTEND;TZID=Europe/Zurich:20231214T213000
DTSTAMP:20260423T025702
CREATED:20230919T104205Z
LAST-MODIFIED:20230919T104205Z
UID:443-1702584000-1702589400@improriviera.ch
SUMMARY:Je voulais juste venger mon père et ensuite les choses se sont compliquées - Compagnie Slalom
DESCRIPTION:Version DUO
URL:https://improriviera.ch/agenda/je-voulais-juste-venger-mon-pere-et-ensuite-les-choses-se-sont-compliquees-compagnie-slalom/
LOCATION:Théatre le Pommier\, Neuchatel
CATEGORIES:Spectacle
END:VEVENT
BEGIN:VEVENT
DTSTART;TZID=Europe/Zurich:20231215T200000
DTEND;TZID=Europe/Zurich:20231215T213000
DTSTAMP:20260423T025702
CREATED:20230919T104409Z
LAST-MODIFIED:20230919T104409Z
UID:448-1702670400-1702675800@improriviera.ch
SUMMARY:La Mécanique du Pétrin - Compagnie Slalom
DESCRIPTION:
URL:https://improriviera.ch/agenda/la-mecanique-du-petrin-compagnie-slalom-2/
LOCATION:Théatre le Pommier\, Neuchatel
CATEGORIES:Spectacle
END:VEVENT
BEGIN:VEVENT
DTSTART;TZID=Europe/Zurich:20231216T190000
DTEND;TZID=Europe/Zurich:20231216T210000
DTSTAMP:20260423T025702
CREATED:20230919T104113Z
LAST-MODIFIED:20230919T104113Z
UID:440-1702753200-1702760400@improriviera.ch
SUMMARY:Le Molière improvisé - Compagnie Slalom
DESCRIPTION:
URL:https://improriviera.ch/agenda/le-moliere-improvise-compagnie-slalom-2/
LOCATION:Théatre le Pommier\, Neuchatel
CATEGORIES:Spectacle
END:VEVENT
END:VCALENDAR