BEGIN:VCALENDAR
VERSION:2.0
PRODID:-//Impro Riviera Events - ECPv6.15.20//NONSGML v1.0//EN
CALSCALE:GREGORIAN
METHOD:PUBLISH
X-ORIGINAL-URL:https://improriviera.ch
X-WR-CALDESC:Évènements pour Impro Riviera Events
REFRESH-INTERVAL;VALUE=DURATION:PT1H
X-Robots-Tag:noindex
X-PUBLISHED-TTL:PT1H
BEGIN:VTIMEZONE
TZID:Europe/Zurich
BEGIN:DAYLIGHT
TZOFFSETFROM:+0100
TZOFFSETTO:+0200
TZNAME:CEST
DTSTART:20210328T010000
END:DAYLIGHT
BEGIN:STANDARD
TZOFFSETFROM:+0200
TZOFFSETTO:+0100
TZNAME:CET
DTSTART:20211031T010000
END:STANDARD
BEGIN:DAYLIGHT
TZOFFSETFROM:+0100
TZOFFSETTO:+0200
TZNAME:CEST
DTSTART:20220327T010000
END:DAYLIGHT
BEGIN:STANDARD
TZOFFSETFROM:+0200
TZOFFSETTO:+0100
TZNAME:CET
DTSTART:20221030T010000
END:STANDARD
BEGIN:DAYLIGHT
TZOFFSETFROM:+0100
TZOFFSETTO:+0200
TZNAME:CEST
DTSTART:20230326T010000
END:DAYLIGHT
BEGIN:STANDARD
TZOFFSETFROM:+0200
TZOFFSETTO:+0100
TZNAME:CET
DTSTART:20231029T010000
END:STANDARD
END:VTIMEZONE
BEGIN:VEVENT
DTSTART;TZID=Europe/Zurich:20220915T200000
DTEND;TZID=Europe/Zurich:20220915T213000
DTSTAMP:20260424T054417
CREATED:20230204T161934Z
LAST-MODIFIED:20230204T163334Z
UID:291-1663272000-1663277400@improriviera.ch
SUMMARY:Saga saison 9 épisodes 1 et 2
DESCRIPTION:Vous êtes nostalgiques des soaps opera\, des aventures de Jenny et Brian? La compagnie Georges Poutre s’attaque cette année à cet univers. \nLien vers l’évènement Facebook.
URL:https://improriviera.ch/agenda/saga-saison-9-episodes-1-et-2/
LOCATION:Théatre Montreux Riviera\, Rue du Pont 32\, Montreux\, Vaud\, 1820\, Suisse
CATEGORIES:Spectacle
END:VEVENT
END:VCALENDAR