BEGIN:VCALENDAR
VERSION:2.0
PRODID:-//Impro Riviera Events - ECPv6.15.20//NONSGML v1.0//EN
CALSCALE:GREGORIAN
METHOD:PUBLISH
X-ORIGINAL-URL:https://improriviera.ch
X-WR-CALDESC:Évènements pour Impro Riviera Events
REFRESH-INTERVAL;VALUE=DURATION:PT1H
X-Robots-Tag:noindex
X-PUBLISHED-TTL:PT1H
BEGIN:VTIMEZONE
TZID:Europe/Zurich
BEGIN:DAYLIGHT
TZOFFSETFROM:+0100
TZOFFSETTO:+0200
TZNAME:CEST
DTSTART:20210328T010000
END:DAYLIGHT
BEGIN:STANDARD
TZOFFSETFROM:+0200
TZOFFSETTO:+0100
TZNAME:CET
DTSTART:20211031T010000
END:STANDARD
BEGIN:DAYLIGHT
TZOFFSETFROM:+0100
TZOFFSETTO:+0200
TZNAME:CEST
DTSTART:20220327T010000
END:DAYLIGHT
BEGIN:STANDARD
TZOFFSETFROM:+0200
TZOFFSETTO:+0100
TZNAME:CET
DTSTART:20221030T010000
END:STANDARD
BEGIN:DAYLIGHT
TZOFFSETFROM:+0100
TZOFFSETTO:+0200
TZNAME:CEST
DTSTART:20230326T010000
END:DAYLIGHT
BEGIN:STANDARD
TZOFFSETFROM:+0200
TZOFFSETTO:+0100
TZNAME:CET
DTSTART:20231029T010000
END:STANDARD
END:VTIMEZONE
BEGIN:VEVENT
DTSTART;TZID=Europe/Zurich:20221201T203000
DTEND;TZID=Europe/Zurich:20221201T213000
DTSTAMP:20260424T013226
CREATED:20221120T131907Z
LAST-MODIFIED:20230204T125255Z
UID:162-1669926600-1669930200@improriviera.ch
SUMMARY:Carte Blanche - Desseins
DESCRIPTION:Impro Riviera Events et Le Bout du Monde présentent une carte blanche à Ken et Jimmy : que faire d’un destin prédestiné\, intimement lié au spectre visuel et aux variations de notre condition humaine? C’est en partie à ces questions que les comédien.nes vont répondre pendant la soirée\, dans une expérience de narration collective.
URL:https://improriviera.ch/agenda/carte-blanche/
LOCATION:Le Bout du Monde\, Rue d'Italie 24\, Vevey\, Vaud\, 1800\, Suisse
CATEGORIES:Spectacle
ATTACH;FMTTYPE=image/jpeg:https://improriviera.ch/wp-content/uploads/2022/11/image-2.jpeg
END:VEVENT
END:VCALENDAR