BEGIN:VCALENDAR
VERSION:2.0
PRODID:-//Impro Riviera Events - ECPv6.15.20//NONSGML v1.0//EN
CALSCALE:GREGORIAN
METHOD:PUBLISH
X-WR-CALNAME:Impro Riviera Events
X-ORIGINAL-URL:https://improriviera.ch
X-WR-CALDESC:Évènements pour Impro Riviera Events
REFRESH-INTERVAL;VALUE=DURATION:PT1H
X-Robots-Tag:noindex
X-PUBLISHED-TTL:PT1H
BEGIN:VTIMEZONE
TZID:Europe/Zurich
BEGIN:DAYLIGHT
TZOFFSETFROM:+0100
TZOFFSETTO:+0200
TZNAME:CEST
DTSTART:20220327T010000
END:DAYLIGHT
BEGIN:STANDARD
TZOFFSETFROM:+0200
TZOFFSETTO:+0100
TZNAME:CET
DTSTART:20221030T010000
END:STANDARD
BEGIN:DAYLIGHT
TZOFFSETFROM:+0100
TZOFFSETTO:+0200
TZNAME:CEST
DTSTART:20230326T010000
END:DAYLIGHT
BEGIN:STANDARD
TZOFFSETFROM:+0200
TZOFFSETTO:+0100
TZNAME:CET
DTSTART:20231029T010000
END:STANDARD
BEGIN:DAYLIGHT
TZOFFSETFROM:+0100
TZOFFSETTO:+0200
TZNAME:CEST
DTSTART:20240331T010000
END:DAYLIGHT
BEGIN:STANDARD
TZOFFSETFROM:+0200
TZOFFSETTO:+0100
TZNAME:CET
DTSTART:20241027T010000
END:STANDARD
END:VTIMEZONE
BEGIN:VEVENT
DTSTART;TZID=Europe/Zurich:20230309T200000
DTEND;TZID=Europe/Zurich:20230312T170000
DTSTAMP:20260423T223950
CREATED:20230204T131309Z
LAST-MODIFIED:20230204T132027Z
UID:281-1678392000-1678640400@improriviera.ch
SUMMARY:La mécanique du pétrin - Feydeau improvisé
DESCRIPTION:Maison de Quartier de Chailly\nAvenue de la Vallonnette 12\n1012 Lausanne \n\nJeudi 9 mars 2023 à 20h00\nVendredi 10 mars 2023 à 20h00\nSamedi 11 mars 2023 à 19h00\nDimanche 12 mars 2023 à 17h00\n\nPlein tarif : CHF 25.-\nTarif réduit : CHF 15.- \n \nUne aire de jeu délimitée\, une porte\, une sonnette.\n5 comédien·ne·s en bord de scène.\nUne foule de costumes\, d’accessoires\, de mobilier\, disponibles\, à vue du public.\nLes personnages sont pris en flagrant délit. Puis les comédien·ne·s aussi. Flagrant délit d’improvisation. Trop d’excuses abracadabrantes. Trop de personnages pour le nombre d’acteur·trice·s. Trop de lieux pour la scénographie.\nÇa tombe bien\, les improvisateur·trice·s adorent se frotter aux idées qui les dépassent. Voilà une bonne excuse pour se plonger dans la mécanique de Georges Feydeau\, pour construire des histoires dont on ne sait plus se sortir. Ressentir dans l’instant le danger et la joie des quiproquos.\nBref\, être dans le pétrin.
URL:https://improriviera.ch/agenda/la-mecanique-du-petrin-feydaux-improvise-2/
LOCATION:Maison de quartier Chailly\, Avenue de la Vallonnette 12\, Lausanne\, Vaud\, 1012\, Suisse
CATEGORIES:Spectacle
END:VEVENT
END:VCALENDAR