BEGIN:VCALENDAR
VERSION:2.0
PRODID:-//Impro Riviera Events - ECPv6.15.20//NONSGML v1.0//EN
CALSCALE:GREGORIAN
METHOD:PUBLISH
X-ORIGINAL-URL:https://improriviera.ch
X-WR-CALDESC:Évènements pour Impro Riviera Events
REFRESH-INTERVAL;VALUE=DURATION:PT1H
X-Robots-Tag:noindex
X-PUBLISHED-TTL:PT1H
BEGIN:VTIMEZONE
TZID:Europe/Zurich
BEGIN:DAYLIGHT
TZOFFSETFROM:+0100
TZOFFSETTO:+0200
TZNAME:CEST
DTSTART:20220327T010000
END:DAYLIGHT
BEGIN:STANDARD
TZOFFSETFROM:+0200
TZOFFSETTO:+0100
TZNAME:CET
DTSTART:20221030T010000
END:STANDARD
BEGIN:DAYLIGHT
TZOFFSETFROM:+0100
TZOFFSETTO:+0200
TZNAME:CEST
DTSTART:20230326T010000
END:DAYLIGHT
BEGIN:STANDARD
TZOFFSETFROM:+0200
TZOFFSETTO:+0100
TZNAME:CET
DTSTART:20231029T010000
END:STANDARD
BEGIN:DAYLIGHT
TZOFFSETFROM:+0100
TZOFFSETTO:+0200
TZNAME:CEST
DTSTART:20240331T010000
END:DAYLIGHT
BEGIN:STANDARD
TZOFFSETFROM:+0200
TZOFFSETTO:+0100
TZNAME:CET
DTSTART:20241027T010000
END:STANDARD
END:VTIMEZONE
BEGIN:VEVENT
DTSTART;TZID=Europe/Zurich:20230504T203000
DTEND;TZID=Europe/Zurich:20230504T213000
DTSTAMP:20260423T172714
CREATED:20221218T212318Z
LAST-MODIFIED:20230204T161310Z
UID:213-1683232200-1683235800@improriviera.ch
SUMMARY:Carte Blanche
DESCRIPTION:Chaque premier jeudi du mois\, une carte blanche au Bout du Monde à Vevey est proposée par un·e personne d’IRE ! \nPlus d’informations suivront pour cette soirée.
URL:https://improriviera.ch/agenda/carte-blanche-mai-2023/
LOCATION:Le Bout du Monde\, Rue d'Italie 24\, Vevey\, Vaud\, 1800\, Suisse
CATEGORIES:Spectacle
END:VEVENT
END:VCALENDAR