BEGIN:VCALENDAR
VERSION:2.0
PRODID:-//Impro Riviera Events - ECPv6.15.20//NONSGML v1.0//EN
CALSCALE:GREGORIAN
METHOD:PUBLISH
X-WR-CALNAME:Impro Riviera Events
X-ORIGINAL-URL:https://improriviera.ch
X-WR-CALDESC:Évènements pour Impro Riviera Events
REFRESH-INTERVAL;VALUE=DURATION:PT1H
X-Robots-Tag:noindex
X-PUBLISHED-TTL:PT1H
BEGIN:VTIMEZONE
TZID:Europe/Zurich
BEGIN:DAYLIGHT
TZOFFSETFROM:+0100
TZOFFSETTO:+0200
TZNAME:CEST
DTSTART:20220327T010000
END:DAYLIGHT
BEGIN:STANDARD
TZOFFSETFROM:+0200
TZOFFSETTO:+0100
TZNAME:CET
DTSTART:20221030T010000
END:STANDARD
BEGIN:DAYLIGHT
TZOFFSETFROM:+0100
TZOFFSETTO:+0200
TZNAME:CEST
DTSTART:20230326T010000
END:DAYLIGHT
BEGIN:STANDARD
TZOFFSETFROM:+0200
TZOFFSETTO:+0100
TZNAME:CET
DTSTART:20231029T010000
END:STANDARD
BEGIN:DAYLIGHT
TZOFFSETFROM:+0100
TZOFFSETTO:+0200
TZNAME:CEST
DTSTART:20240331T010000
END:DAYLIGHT
BEGIN:STANDARD
TZOFFSETFROM:+0200
TZOFFSETTO:+0100
TZNAME:CET
DTSTART:20241027T010000
END:STANDARD
END:VTIMEZONE
BEGIN:VEVENT
DTSTART;TZID=Europe/Zurich:20230531T190000
DTEND;TZID=Europe/Zurich:20230611T203000
DTSTAMP:20260423T163539
CREATED:20230405T201807Z
LAST-MODIFIED:20230405T205023Z
UID:394-1685559600-1686515400@improriviera.ch
SUMMARY:Plan Bis - Compagnie Georges Poutre
DESCRIPTION:La Compagnie Georges Poutre revient avec son spectacle Plan B\, renommé Plan Bis pour l’année 2023 au TMR ! \n\n\nRésumé \nLe Petit Théâtre d’Ici\, petit théâtre chaleureux d’une petite ville de province\, réussi le coup du siècle pour sa notoriété : décrocher une retransmission en direct dans tous les pays francophones de L \nA pièce parisienne la plus prisée du moment. Alors que les spectateurs impatients sont assis dans la salle et que le directeur du lieu présente son équipe et le déroulement de la soirée\, on lui annonce que les comédiens ne sont pas là… \nAnnuler et risquer de décrédibiliser le théâtre aux yeux du monde ? Jamais ! \nAlors que les caméras vont se mettre à tourner et le rideau se lever\, l’équipe du Petit Théâtre d’Ici va avoir du pain…sur les planches ! \nMise en scène : Compagnie Georges Poutre \nN’hésitez pas un instant de plus pour réserver sur le site du TMR ! \n\n\n\n\n\n\n\n\n\n\nDurée\n    Âge conseillé\n\n\n1h30 sans entracte\n    Tout public\n\n\n\n\n\n\n\n\n\n\n\n\n\n\n\n\n\n\n\nHoraires \n\n\n\n\n\n\n\nMardi\n19h00\n\n\nMercredi\n19h00\n\n\nJeudi\n19h00\n\n\nVendredi\n20h00\n\n\nSamedi\n19h00\n\n\nDimanche\n17h00\n\n\n\n\nTarifs 2022/2023 \n\n\n\nPlein tarif\nCHF 40.-\n\n\nAVS/AI ou Adhérent\nCHF 35.-\n\n\nAVS/AI et Adhérent\nCHF 30.-\n\n\nJeune (-26 ans)/Caritas*\nCHF 20.-\n\n\nEnfant (-16 ans)\nCHF 10.-\n\n\nPassCulture*\nCHF 0.-\n\n\nGroupe (dès 15 pers.)*\nCHF 35.-\n\n\nProfessionnel*\nCHF 15.-\n\n\nÉcoliers de Montreux*\nGratuit\n\n\n\n*Sur présentation d’un justificatif
URL:https://improriviera.ch/agenda/plan-bis-compagnie-georges-poutre/
LOCATION:Théatre Montreux Riviera\, Rue du Pont 32\, Montreux\, Vaud\, 1820\, Suisse
CATEGORIES:Spectacle
END:VEVENT
END:VCALENDAR