BEGIN:VCALENDAR
VERSION:2.0
PRODID:-//Impro Riviera Events - ECPv6.15.20//NONSGML v1.0//EN
CALSCALE:GREGORIAN
METHOD:PUBLISH
X-WR-CALNAME:Impro Riviera Events
X-ORIGINAL-URL:https://improriviera.ch
X-WR-CALDESC:Évènements pour Impro Riviera Events
REFRESH-INTERVAL;VALUE=DURATION:PT1H
X-Robots-Tag:noindex
X-PUBLISHED-TTL:PT1H
BEGIN:VTIMEZONE
TZID:Europe/Zurich
BEGIN:DAYLIGHT
TZOFFSETFROM:+0100
TZOFFSETTO:+0200
TZNAME:CEST
DTSTART:20230326T010000
END:DAYLIGHT
BEGIN:STANDARD
TZOFFSETFROM:+0200
TZOFFSETTO:+0100
TZNAME:CET
DTSTART:20231029T010000
END:STANDARD
BEGIN:DAYLIGHT
TZOFFSETFROM:+0100
TZOFFSETTO:+0200
TZNAME:CEST
DTSTART:20240331T010000
END:DAYLIGHT
BEGIN:STANDARD
TZOFFSETFROM:+0200
TZOFFSETTO:+0100
TZNAME:CET
DTSTART:20241027T010000
END:STANDARD
BEGIN:DAYLIGHT
TZOFFSETFROM:+0100
TZOFFSETTO:+0200
TZNAME:CEST
DTSTART:20250330T010000
END:DAYLIGHT
BEGIN:STANDARD
TZOFFSETFROM:+0200
TZOFFSETTO:+0100
TZNAME:CET
DTSTART:20251026T010000
END:STANDARD
END:VTIMEZONE
BEGIN:VEVENT
DTSTART;TZID=Europe/Zurich:20240427T200000
DTEND;TZID=Europe/Zurich:20240427T213000
DTSTAMP:20260423T004741
CREATED:20230919T104554Z
LAST-MODIFIED:20230919T104554Z
UID:453-1714248000-1714253400@improriviera.ch
SUMMARY:La Mécanique du Pétrin - Compagnie Slalom
DESCRIPTION:
URL:https://improriviera.ch/agenda/la-mecanique-du-petrin-compagnie-slalom-4/
LOCATION:Casino-théatre\, Rolle
CATEGORIES:Spectacle
END:VEVENT
END:VCALENDAR