BEGIN:VCALENDAR
VERSION:2.0
PRODID:-//Impro Riviera Events - ECPv6.15.20//NONSGML v1.0//EN
CALSCALE:GREGORIAN
METHOD:PUBLISH
X-ORIGINAL-URL:https://improriviera.ch
X-WR-CALDESC:Évènements pour Impro Riviera Events
REFRESH-INTERVAL;VALUE=DURATION:PT1H
X-Robots-Tag:noindex
X-PUBLISHED-TTL:PT1H
BEGIN:VTIMEZONE
TZID:Europe/Zurich
BEGIN:DAYLIGHT
TZOFFSETFROM:+0100
TZOFFSETTO:+0200
TZNAME:CEST
DTSTART:20230326T010000
END:DAYLIGHT
BEGIN:STANDARD
TZOFFSETFROM:+0200
TZOFFSETTO:+0100
TZNAME:CET
DTSTART:20231029T010000
END:STANDARD
BEGIN:DAYLIGHT
TZOFFSETFROM:+0100
TZOFFSETTO:+0200
TZNAME:CEST
DTSTART:20240331T010000
END:DAYLIGHT
BEGIN:STANDARD
TZOFFSETFROM:+0200
TZOFFSETTO:+0100
TZNAME:CET
DTSTART:20241027T010000
END:STANDARD
BEGIN:DAYLIGHT
TZOFFSETFROM:+0100
TZOFFSETTO:+0200
TZNAME:CEST
DTSTART:20250330T010000
END:DAYLIGHT
BEGIN:STANDARD
TZOFFSETFROM:+0200
TZOFFSETTO:+0100
TZNAME:CET
DTSTART:20251026T010000
END:STANDARD
END:VTIMEZONE
BEGIN:VEVENT
DTSTART;TZID=Europe/Zurich:20240118T200000
DTEND;TZID=Europe/Zurich:20240118T213000
DTSTAMP:20260425T004203
CREATED:20230919T102023Z
LAST-MODIFIED:20230919T102023Z
UID:424-1705608000-1705613400@improriviera.ch
SUMMARY:Saga saison 10 épisode 5
DESCRIPTION:Pour cette 5e soirée\, la Compagnie Georges Poutre vous propose de replonger\, le temps d’un spectacle\, dans le monde des duels et des histoires de capes et d’épées! \nLien vers l’événement Facebook.
URL:https://improriviera.ch/agenda/saga-saison-10-episode-5/
LOCATION:Théatre Montreux Riviera\, Rue du Pont 32\, Montreux\, Vaud\, 1820\, Suisse
CATEGORIES:Spectacle
END:VEVENT
BEGIN:VEVENT
DTSTART;TZID=Europe/Zurich:20240125T200000
DTEND;TZID=Europe/Zurich:20240125T220000
DTSTAMP:20260425T004203
CREATED:20231106T155958Z
LAST-MODIFIED:20231106T155958Z
UID:494-1706212800-1706220000@improriviera.ch
SUMMARY:Match BRIC - Beaulieu
DESCRIPTION:Match dans le cadre de l’AVLI.
URL:https://improriviera.ch/agenda/match-bric-beaulieu/
LOCATION:Le Cazard\, Pré du Marché 15\, Lausanne\, Vaud\, 1004\, Suisse
CATEGORIES:Match
END:VEVENT
BEGIN:VEVENT
DTSTART;TZID=Europe/Zurich:20240126T200000
DTEND;TZID=Europe/Zurich:20240126T220000
DTSTAMP:20260425T004203
CREATED:20231031T180358Z
LAST-MODIFIED:20231031T180358Z
UID:483-1706299200-1706306400@improriviera.ch
SUMMARY:Match PIP - Captain Neo
DESCRIPTION:Match dans le cadre de l’AVLI.
URL:https://improriviera.ch/agenda/match-pip-captain-neo/
LOCATION:Salle des Remparts\, 1814 La Tour-de-Peilz\, Place des Anciens-Fossés 7\, La Tour-de-Peilz\, Vaud\, 1814\, Suisse
CATEGORIES:Match
END:VEVENT
BEGIN:VEVENT
DTSTART;TZID=Europe/Zurich:20240127T200000
DTEND;TZID=Europe/Zurich:20240127T220000
DTSTAMP:20260425T004203
CREATED:20231106T160945Z
LAST-MODIFIED:20231106T160945Z
UID:502-1706385600-1706392800@improriviera.ch
SUMMARY:Match Brunch à la ferme - Gilberte
DESCRIPTION:Match dans le cadre de l’AVLI.
URL:https://improriviera.ch/agenda/match-brunch-a-la-ferme-gilberte/
LOCATION:Salle des Remparts\, 1814 La Tour-de-Peilz\, Place des Anciens-Fossés 7\, La Tour-de-Peilz\, Vaud\, 1814\, Suisse
CATEGORIES:Match
END:VEVENT
END:VCALENDAR